BEGIN:VCALENDAR
VERSION:2.0
PRODID:icalendar-ruby
CALSCALE:GREGORIAN
METHOD:PUBLISH
BEGIN:VEVENT
DTSTAMP:20260423T144014Z
UID:10-428321@morningsidebaptist.us
DTSTART:20260502T140000Z
DTEND:20260502T170000Z
CLASS:PUBLIC
CREATED:20260422T213810
DESCRIPTION:We’re looking forward to our annual church work day coming up
  on Saturday\, May 2nd\, beginning at 9:00 AM. This is always a sweet ti
 me to serve together and help care for the space the Lord has given us.\nT
 here will be a variety of projects to work on\, both inside and outside\, 
 and many hands make light work! If you’re available\, we’d love to hav
 e you join us for all or even part of the morning.\nIf you’re able\, ple
 ase consider bringing some cleaning supplies with you\, as we don’t quit
 e have enough to go around. Helpful items include buckets\, paper towels\,
  cleaning sprays\, and other cleaning solutions.\nIt’s always such a ble
 ssing to serve together\, and we’re thankful for each of you who’s abl
 e to jump in.
LAST-MODIFIED:20260422T213810
LOCATION:Morningside Baptist Church
SUMMARY:Church Work Day
URL;VALUE=URI:https://www.morningsidebaptist.us/events/church-work-day/2026
 -05-02
ATTACH;FILENAME=Church-Work-Day---Announcement.png;FMTTYPE=image/png:https:
 //dq5pwpg1q8ru0.cloudfront.net/2026/04/23/02/38/09/a0b4f384-882f-4cd1-a69c
 -860e008a17d7/Church-Work-Day---Announcement.png
END:VEVENT
END:VCALENDAR
